BEGIN:VCALENDAR
VERSION:2.0
PRODID:-//Rasselbande Schwerathletik - ECPv6.13.2.1//NONSGML v1.0//EN
CALSCALE:GREGORIAN
METHOD:PUBLISH
X-WR-CALNAME:Rasselbande Schwerathletik
X-ORIGINAL-URL:https://www.rasselbande-kdk.at
X-WR-CALDESC:Veranstaltungen für Rasselbande Schwerathletik
REFRESH-INTERVAL;VALUE=DURATION:PT1H
X-Robots-Tag:noindex
X-PUBLISHED-TTL:PT1H
BEGIN:VTIMEZONE
TZID:Europe/Vienna
BEGIN:DAYLIGHT
TZOFFSETFROM:+0100
TZOFFSETTO:+0200
TZNAME:CEST
DTSTART:20240331T010000
END:DAYLIGHT
BEGIN:STANDARD
TZOFFSETFROM:+0200
TZOFFSETTO:+0100
TZNAME:CET
DTSTART:20241027T010000
END:STANDARD
END:VTIMEZONE
BEGIN:VEVENT
DTSTART;TZID=Europe/Vienna:20241228T130000
DTEND;TZID=Europe/Vienna:20241228T180000
DTSTAMP:20260422T131547
CREATED:20241117T163820Z
LAST-MODIFIED:20241117T163820Z
UID:6091-1735390800-1735408800@www.rasselbande-kdk.at
SUMMARY:Silvester MAX OUT
DESCRIPTION:Infos folgen in der WhatsApp Gruppe
URL:https://www.rasselbande-kdk.at/calender/silvester-max-out/
LOCATION:Kroftstodl\, Linzer Straße 28\, St. Georgen/Gusen\, 4222
END:VEVENT
END:VCALENDAR