BEGIN:VCALENDAR
VERSION:2.0
PRODID:-//Rasselbande Schwerathletik - ECPv6.13.2.1//NONSGML v1.0//EN
CALSCALE:GREGORIAN
METHOD:PUBLISH
X-WR-CALNAME:Rasselbande Schwerathletik
X-ORIGINAL-URL:https://www.rasselbande-kdk.at
X-WR-CALDESC:Veranstaltungen für Rasselbande Schwerathletik
REFRESH-INTERVAL;VALUE=DURATION:PT1H
X-Robots-Tag:noindex
X-PUBLISHED-TTL:PT1H
BEGIN:VTIMEZONE
TZID:Europe/Vienna
BEGIN:DAYLIGHT
TZOFFSETFROM:+0100
TZOFFSETTO:+0200
TZNAME:CEST
DTSTART:20250330T010000
END:DAYLIGHT
BEGIN:STANDARD
TZOFFSETFROM:+0200
TZOFFSETTO:+0100
TZNAME:CET
DTSTART:20251026T010000
END:STANDARD
END:VTIMEZONE
BEGIN:VEVENT
DTSTART;TZID=Europe/Vienna:20250412T130000
DTEND;TZID=Europe/Vienna:20250412T140000
DTSTAMP:20260422T064920
CREATED:20250222T120048Z
LAST-MODIFIED:20250222T120048Z
UID:6145-1744462800-1744466400@www.rasselbande-kdk.at
SUMMARY:Wettkampf-Unterweisung
DESCRIPTION:Die Unterweisung ist für all jene Mitglieder verpflichtend\, welche an einem Wettkampf teilnehmen oder betreuen möchten. Ohne Unterweisung kann nicht bei einem Wettkampf teilgenommen werden.
URL:https://www.rasselbande-kdk.at/calender/wettkampf-unterweisung/
LOCATION:Kroftstodl\, Linzer Straße 28\, St. Georgen/Gusen\, 4222
END:VEVENT
BEGIN:VEVENT
DTSTART;TZID=Europe/Vienna:20250412T140000
DTEND;TZID=Europe/Vienna:20250412T170000
DTSTAMP:20260422T064920
CREATED:20241117T164021Z
LAST-MODIFIED:20241117T164021Z
UID:6096-1744466400-1744477200@www.rasselbande-kdk.at
SUMMARY:Vereinstraining
DESCRIPTION:
URL:https://www.rasselbande-kdk.at/calender/vereinstraining-2/
LOCATION:Kroftstodl\, Linzer Straße 28\, St. Georgen/Gusen\, 4222
END:VEVENT
END:VCALENDAR