BEGIN:VCALENDAR
VERSION:2.0
PRODID:-//Rasselbande Schwerathletik - ECPv6.13.2.1//NONSGML v1.0//EN
CALSCALE:GREGORIAN
METHOD:PUBLISH
X-ORIGINAL-URL:https://www.rasselbande-kdk.at
X-WR-CALDESC:Veranstaltungen für Rasselbande Schwerathletik
REFRESH-INTERVAL;VALUE=DURATION:PT1H
X-Robots-Tag:noindex
X-PUBLISHED-TTL:PT1H
BEGIN:VTIMEZONE
TZID:Europe/Vienna
BEGIN:DAYLIGHT
TZOFFSETFROM:+0100
TZOFFSETTO:+0200
TZNAME:CEST
DTSTART:20250330T010000
END:DAYLIGHT
BEGIN:STANDARD
TZOFFSETFROM:+0200
TZOFFSETTO:+0100
TZNAME:CET
DTSTART:20251026T010000
END:STANDARD
END:VTIMEZONE
BEGIN:VEVENT
DTSTART;VALUE=DATE:20250502
DTEND;VALUE=DATE:20250505
DTSTAMP:20260422T034204
CREATED:20241101T161504Z
LAST-MODIFIED:20241102T125141Z
UID:6070-1746144000-1746403199@www.rasselbande-kdk.at
SUMMARY:The Battle of the North 2.0
DESCRIPTION:Are you ready for The Ultimate Test of Strength? The North’s strongest warriors will face off. Who will rise as the King and Queen of the North? \nPrepare. Compete. Conquer.
URL:https://www.rasselbande-kdk.at/calender/the-battle-of-the-north-2-0/
LOCATION:Westside City\, Amstetten\, Waidhofner Straße 42b\, Amstetten\, NÖ\, 3300\, Austria
CATEGORIES:Landesebene
END:VEVENT
BEGIN:VEVENT
DTSTART;VALUE=DATE:20250510
DTEND;VALUE=DATE:20250512
DTSTAMP:20260422T034204
CREATED:20241117T164108Z
LAST-MODIFIED:20241117T164108Z
UID:6098-1746835200-1747007999@www.rasselbande-kdk.at
SUMMARY:Vereinsausflug
DESCRIPTION:Infos folgen!
URL:https://www.rasselbande-kdk.at/calender/vereinsausflug-2/
LOCATION:OÖ
END:VEVENT
END:VCALENDAR